BEGIN:VCALENDAR
VERSION:2.0
PRODID:-//wp-events-plugin.com//7.2.3.1//EN
TZID:Europe/Berlin
X-WR-TIMEZONE:Europe/Berlin
BEGIN:VEVENT
UID:22@swing-in-heilbronx.de
DTSTART;TZID=Europe/Berlin:20190206T190000
DTEND;TZID=Europe/Berlin:20190206T213000
DTSTAMP:20181229T231152Z
URL:http://www.swing-in-heilbronx.de/events/baohna-swingt-heilbronx-social
 -dance-zu-livemusik/
SUMMARY:Baohña swingt Heilbronx - Social Dance zu Livemusik
DESCRIPTION:Am Mittwoch\, 6. Februar 2019 tanzen wir wieder von 19:00 bis 2
 1:30 Uhr in der Piano Wine Bar.\n\nDoch diesmal spielt für uns Baohña Kl
 assiker der Swing- und Jazzära. Baohña sind: Ralf Baumgärtner (Schlagz
 eug) ... Dorothea Stern (Saxophon)  …  Alfred Krämer (Gitarre)  …
   Peter Wanner (Gitarre | Bass).\n\nFür alle Neugierige und Anfänger gi
 bt es in der Pause eine Schnupper 1/2 Stunde.\n\nIhr findet die Piano Wine
  Bar in der Frankfurter Str. 36 in Heilbronn.
LOCATION:Piano Wine Bar\, Frankfurter Straße 36\, Heilbronn\, 74072\, Deut
 schland
GEO:49.1412328;9.209882900000025
X-APPLE-STRUCTURED-LOCATION;VALUE=URI;X-ADDRESS=Frankfurter Straße 36\, He
 ilbronn\, 74072\, Deutschland;X-APPLE-RADIUS=100;X-TITLE=Piano Wine Bar:ge
 o:49.1412328,9.209882900000025
END:VEVENT
BEGIN:VTIMEZONE
TZID:Europe/Berlin
X-LIC-LOCATION:Europe/Berlin
BEGIN:STANDARD
DTSTART:20181028T020000
TZOFFSETFROM:+0200
TZOFFSETTO:+0100
TZNAME:CET
END:STANDARD
END:VTIMEZONE
END:VCALENDAR