BEGIN:VCALENDAR
VERSION:2.0
PRODID:-//wp-events-plugin.com//7.2.3.1//EN
TZID:Europe/Berlin
X-WR-TIMEZONE:Europe/Berlin
BEGIN:VEVENT
UID:129@swing-in-heilbronx.de
DTSTART;TZID=Europe/Berlin:20191206T190000
DTEND;TZID=Europe/Berlin:20191206T223000
DTSTAMP:20191123T104624Z
URL:http://www.swing-in-heilbronx.de/events/chameleon-feat-jana-schrietter
 -swing-dance-in-mannheim/
SUMMARY:Chameleon feat. Jana Schrietter - Swing Dance in Mannheim
DESCRIPTION:Im Ella &amp\; Louis wird Jazz gespielt und es darf getanzt wer
 den. Die Ankündigung für die Band Chameleon klingt spannend.\nUnd die Lo
 cation ist einfach super. Schaut am besten auf die Homepage: www.ellalouis
 .de\n\nWer in Mannheim ist\, sollte sich diesen Event nicht entgehen lasse
 n.
LOCATION:Ella & Louis\, Mannheim\, Rosengartenplatz 2\, Mannheim\, 68161\, 
 Deutschland
GEO:49.4854417;8.477376499999991
X-APPLE-STRUCTURED-LOCATION;VALUE=URI;X-ADDRESS=Rosengartenplatz 2\, Mannhe
 im\, 68161\, Deutschland;X-APPLE-RADIUS=100;X-TITLE=Ella & Louis\, Mannhei
 m:geo:49.4854417,8.477376499999991
END:VEVENT
BEGIN:VTIMEZONE
TZID:Europe/Berlin
X-LIC-LOCATION:Europe/Berlin
BEGIN:STANDARD
DTSTART:20191027T020000
TZOFFSETFROM:+0200
TZOFFSETTO:+0100
TZNAME:CET
END:STANDARD
END:VTIMEZONE
END:VCALENDAR