BEGIN:VCALENDAR
VERSION:2.0
PRODID:-//wp-events-plugin.com//7.2.3.1//EN
TZID:Europe/Berlin
X-WR-TIMEZONE:Europe/Berlin
BEGIN:VEVENT
UID:122@swing-in-heilbronx.de
DTSTART;TZID=Europe/Berlin:20191130T201500
DTEND;TZID=Europe/Berlin:20191130T235900
DTSTAMP:20191028T202200Z
URL:http://www.swing-in-heilbronx.de/events/first-saturday-swing-swingstep
 -heidelberg-3/
SUMMARY:The Winterball - Swingstep Heidelberg
DESCRIPTION:\n\n\nMit Dinner von 19 - 20:30 Uhr (optional)\;\nTaster von 20
  - 21 Uhr (einer für Beginner und einer für Intermediate/Advanced:\nPart
 y mit Live Musik von "The Rhythm Outlines" und DJs von 21 bis 2 Uhr\nEintr
 itt pro Person 16 EUR\nVeranstalter ist: Swingstep Heidelberg (https:// sw
 ingstep.com)\n\n\n
LOCATION:Tanzhaus Heidelberg\, Bergheimer Str. 147\, Heidelberg\, 69115\, D
 eutschland
GEO:49.407649;8.675827
X-APPLE-STRUCTURED-LOCATION;VALUE=URI;X-ADDRESS=Bergheimer Str. 147\, Heide
 lberg\, 69115\, Deutschland;X-APPLE-RADIUS=100;X-TITLE=Tanzhaus Heidelberg
 :geo:49.407649,8.675827
END:VEVENT
BEGIN:VTIMEZONE
TZID:Europe/Berlin
X-LIC-LOCATION:Europe/Berlin
BEGIN:STANDARD
DTSTART:20191027T020000
TZOFFSETFROM:+0200
TZOFFSETTO:+0100
TZNAME:CET
END:STANDARD
END:VTIMEZONE
END:VCALENDAR