BEGIN:VCALENDAR
VERSION:2.0
PRODID:-//wp-events-plugin.com//7.2.3.1//EN
TZID:Europe/Berlin
X-WR-TIMEZONE:Europe/Berlin
BEGIN:VEVENT
UID:215@swing-in-heilbronx.de
DTSTART;TZID=Europe/Berlin:20191207T190000
DTEND;TZID=Europe/Berlin:20191207T230000
DTSTAMP:20191201T184014Z
URL:http://www.swing-in-heilbronx.de/events/lets-have-a-ball-ii-swing-fest
 /
SUMMARY:Let's have a ball II - Swing Fest
DESCRIPTION:   \n\n\nSchon vor einem Jahr gab es Swing im „Hotel Silber"\
 , heute ein Ort des Dialogs\, der Toleranz und Vielfalt. In der NS-Zeit da
 gegen wurden Jugendliche\, die Swingplatten hörten\, ebenso von der Gesta
 po-Zentrale aus verfolgt wie die württembergischen Sinti. Es gastieren 
 „ Die Drahtzieher" aus Ravensburg. Das Ensemble steht für schnellen Gip
 sy-Jazz. Durch den Abend führt Franky Doo\, ein Stuttgarter Swing-Mann mi
 t Leib und Seele\, Tänzer\, Musiker und DJ. Gemeinsam mit seiner Partneri
 n Tanja Schröpfer gibt er an dem Abend Swing-Tanz-Schnupperkurse. Eine Ge
 tränkebar bieten Laura und das Team des Kings Club.\nEintritt frei - Anme
 ldung: nicht erforderlich\n\n\n
LOCATION:Hotel Silber - Stuttgart\, Dorotheenstr. 10\, Stuttgart\, 70173\, 
 Deutschland
GEO:48.776103;9.180593
X-APPLE-STRUCTURED-LOCATION;VALUE=URI;X-ADDRESS=Dorotheenstr. 10\, Stuttgar
 t\, 70173\, Deutschland;X-APPLE-RADIUS=100;X-TITLE=Hotel Silber - Stuttgar
 t:geo:48.776103,9.180593
END:VEVENT
BEGIN:VTIMEZONE
TZID:Europe/Berlin
X-LIC-LOCATION:Europe/Berlin
BEGIN:STANDARD
DTSTART:20191027T020000
TZOFFSETFROM:+0200
TZOFFSETTO:+0100
TZNAME:CET
END:STANDARD
END:VTIMEZONE
END:VCALENDAR