BEGIN:VCALENDAR
VERSION:2.0
PRODID:-//wp-events-plugin.com//7.2.3.1//EN
TZID:Europe/Berlin
X-WR-TIMEZONE:Europe/Berlin
BEGIN:VEVENT
UID:362@swing-in-heilbronx.de
DTSTART;TZID=Europe/Berlin:20201025T150000
DTEND;TZID=Europe/Berlin:20201025T170000
DTSTAMP:20200906T142039Z
URL:http://www.swing-in-heilbronx.de/events/lindy-hop-beginner-workshop-in
 -bad-wimpfen/
SUMMARY:Lindy Hop Beginner Workshop in Bad Wimpfen
DESCRIPTION:Lindy Hop Workshop für Anfänger/innen und Teilnehmer mit geri
 ngen Vorkenntnissen mit 3 Terminen. Wir tanzen 8 Count Grundschritte und l
 ernen Variationen und einfache Figuren.\n\nOrganisiert wird der Workshop 
 über die Volkshochschule Bad Wimpfen\; bitte auch über deren Homepage an
 melden. Er findet statt in der Alten Turnhalle (neben dem Hohenstaufengymn
 asium)\, Schulstr. 23\n
LOCATION:Alte Turnhalle - Bad Wimpfen\, Schulstraße 23\, Bad Wimpfen\, 742
 06\, Deutschland
GEO:49.22825;9.161360000000059
X-APPLE-STRUCTURED-LOCATION;VALUE=URI;X-ADDRESS=Schulstraße 23\, Bad Wimpf
 en\, 74206\, Deutschland;X-APPLE-RADIUS=100;X-TITLE=Alte Turnhalle - Bad W
 impfen:geo:49.22825,9.161360000000059
END:VEVENT
BEGIN:VTIMEZONE
TZID:Europe/Berlin
X-LIC-LOCATION:Europe/Berlin
BEGIN:STANDARD
DTSTART:20201025T020000
TZOFFSETFROM:+0200
TZOFFSETTO:+0100
TZNAME:CET
END:STANDARD
END:VTIMEZONE
END:VCALENDAR