BEGIN:VCALENDAR
VERSION:2.0
PRODID:-//wp-events-plugin.com//7.2.3.1//EN
TZID:Europe/Berlin
X-WR-TIMEZONE:Europe/Berlin
BEGIN:VEVENT
UID:377@swing-in-heilbronx.de
DTSTART;TZID=Europe/Berlin:20221024T180000
DTEND;TZID=Europe/Berlin:20221024T193000
DTSTAMP:20221016T184343Z
URL:http://www.swing-in-heilbronx.de/events/lindy-hop-beginnerkurs-volksho
 chschule-winter-2022-2023/
SUMMARY:Lindy Hop - Beginnerkurs - Volkshochschule - Winter 2022/2023
DESCRIPTION:In unserem Lindy Hop Anfängerkurs werden die 3 Grundschritte (
 6-Count\, 8-Count und Charleston) gelernt. Figuren lernen und immer wieder
  festigen\, das Interpretieren von Musik und ganz viel Spaß am Tanzen ste
 hen im Vordergrund.\n\nDie Anmeldung erfolgt über die Volkshochschule Hei
 lbronn. Einzelanmeldungen sind möglich.
LOCATION:Tanzschule VÖ\, Neckargartacher Str 94\, Heilbronn\, 74080\, Deut
 schland
GEO:49.1476084;9.196947099999988
X-APPLE-STRUCTURED-LOCATION;VALUE=URI;X-ADDRESS=Neckargartacher Str 94\, He
 ilbronn\, 74080\, Deutschland;X-APPLE-RADIUS=100;X-TITLE=Tanzschule VÖ:ge
 o:49.1476084,9.196947099999988
END:VEVENT
BEGIN:VTIMEZONE
TZID:Europe/Berlin
X-LIC-LOCATION:Europe/Berlin
BEGIN:DAYLIGHT
DTSTART:20220327T030000
TZOFFSETFROM:+0100
TZOFFSETTO:+0200
TZNAME:CEST
END:DAYLIGHT
END:VTIMEZONE
END:VCALENDAR