BEGIN:VCALENDAR
VERSION:2.0
PRODID:-//wp-events-plugin.com//7.2.3.1//EN
TZID:Europe/Berlin
X-WR-TIMEZONE:Europe/Berlin
BEGIN:VEVENT
UID:408@swing-in-heilbronx.de
DTSTART;TZID=Europe/Berlin:20230612T180000
DTEND;TZID=Europe/Berlin:20230612T193000
DTSTAMP:20230319T075350Z
URL:http://www.swing-in-heilbronx.de/events/lindy-hop-grundkurs-volkshochs
 chule-fruehjahr-sommer-2023-9/
SUMMARY:Lindy Hop - Grundkurs - Volkshochschule - Frühjahr/Sommer 2023
DESCRIPTION:In unserem Lindy Hop Grundkurs werden die 3 Grundschritte (6-Co
 unt\, 8-Count und Charleston) gelernt. Figuren lernen und immer wieder fes
 tigen\, das Interpretieren von Musik und ganz viel Spaß am Tanzen stehen 
 im Vordergrund.\n\nDie Anmeldung erfolgt über die Volkshochschule Heilbro
 nn. Einzelanmeldungen sind möglich.
LOCATION:Tanzschule VÖ\, Neckargartacher Str 94\, Heilbronn\, 74080\, Deut
 schland
GEO:49.1476084;9.196947099999988
X-APPLE-STRUCTURED-LOCATION;VALUE=URI;X-ADDRESS=Neckargartacher Str 94\, He
 ilbronn\, 74080\, Deutschland;X-APPLE-RADIUS=100;X-TITLE=Tanzschule VÖ:ge
 o:49.1476084,9.196947099999988
END:VEVENT
BEGIN:VTIMEZONE
TZID:Europe/Berlin
X-LIC-LOCATION:Europe/Berlin
BEGIN:DAYLIGHT
DTSTART:20230326T030000
TZOFFSETFROM:+0100
TZOFFSETTO:+0200
TZNAME:CEST
END:DAYLIGHT
END:VTIMEZONE
END:VCALENDAR