BEGIN:VCALENDAR
VERSION:2.0
PRODID:-//wp-events-plugin.com//7.2.3.1//EN
TZID:Europe/Berlin
X-WR-TIMEZONE:Europe/Berlin
BEGIN:VEVENT
UID:76@swing-in-heilbronx.de
DTSTART;TZID=Europe/Berlin:20190807T200000
DTEND;TZID=Europe/Berlin:20190807T210000
DTSTAMP:20190707T152826Z
URL:http://www.swing-in-heilbronx.de/events/lindy-hop-schnuppern-im-voe/
SUMMARY:Lindy Hop Schnuppern im VÖ
DESCRIPTION:Im Rahmen des Ferienprogramms im VÖ gibt es eine Schnupperstun
 de Lindy Hop. Jan und Heike zeigen eine Figur aus dem Lindy Hop\, die auch
  beim Tanzen von Jive getanzt werden kann .
LOCATION:Tanzschule VÖ\, Neckargartacher Str 94\, Heilbronn\, 74080\, Deut
 schland
GEO:49.1476084;9.196947099999988
X-APPLE-STRUCTURED-LOCATION;VALUE=URI;X-ADDRESS=Neckargartacher Str 94\, He
 ilbronn\, 74080\, Deutschland;X-APPLE-RADIUS=100;X-TITLE=Tanzschule VÖ:ge
 o:49.1476084,9.196947099999988
END:VEVENT
BEGIN:VTIMEZONE
TZID:Europe/Berlin
X-LIC-LOCATION:Europe/Berlin
BEGIN:DAYLIGHT
DTSTART:20190331T030000
TZOFFSETFROM:+0100
TZOFFSETTO:+0200
TZNAME:CEST
END:DAYLIGHT
END:VTIMEZONE
END:VCALENDAR