BEGIN:VCALENDAR
VERSION:2.0
PRODID:-//wp-events-plugin.com//7.2.3.1//EN
TZID:Europe/Berlin
X-WR-TIMEZONE:Europe/Berlin
BEGIN:VEVENT
UID:95@swing-in-heilbronx.de
DTSTART;TZID=Europe/Berlin:20191106T193000
DTEND;TZID=Europe/Berlin:20191106T223000
DTSTAMP:20190727T081200Z
URL:http://www.swing-in-heilbronx.de/events/lindy-hop-tanzabend-im-labohem
 e-3/
SUMMARY:Lindy Hop - Tanzabend im LaBohème
DESCRIPTION:Jeden 1. Mittwoch im Monat veranstalten Julia und Chris (www.Sw
 ingmonkeys.de) einen Social Dance in der Bar La Bohème.\n\nEintritt frei\
 n\n&nbsp\;
LOCATION:La Bohème in der DistelLitLounge\, Sonnengasse 11\, Heilbronn\, 7
 4072\, Deutschland
GEO:49.14394;9.22208999999998
X-APPLE-STRUCTURED-LOCATION;VALUE=URI;X-ADDRESS=Sonnengasse 11\, Heilbronn\
 , 74072\, Deutschland;X-APPLE-RADIUS=100;X-TITLE=La Bohème in der DistelL
 itLounge:geo:49.14394,9.22208999999998
END:VEVENT
BEGIN:VTIMEZONE
TZID:Europe/Berlin
X-LIC-LOCATION:Europe/Berlin
BEGIN:STANDARD
DTSTART:20191027T020000
TZOFFSETFROM:+0200
TZOFFSETTO:+0100
TZNAME:CET
END:STANDARD
END:VTIMEZONE
END:VCALENDAR