BEGIN:VCALENDAR
VERSION:2.0
PRODID:-//wp-events-plugin.com//7.2.3.1//EN
TZID:Europe/Berlin
X-WR-TIMEZONE:Europe/Berlin
BEGIN:VEVENT
UID:340@swing-in-heilbronx.de
DTSTART;TZID=Europe/Berlin:20200221T190000
DTEND;TZID=Europe/Berlin:20200221T230000
DTSTAMP:20200216T153109Z
URL:http://www.swing-in-heilbronx.de/events/my-ladyswing-ella-louis/
SUMMARY:My LadySwing -  Ella & Louis
DESCRIPTION:Lindy Hop Tanzen zu Live Musik\n\nSchnupperstunde mit den Swing
 monkeys ab 19 Uhr
LOCATION:Ella & Louis\, Mannheim\, Rosengartenplatz 2\, Mannheim\, 68161\, 
 Deutschland
GEO:49.4854417;8.477376499999991
X-APPLE-STRUCTURED-LOCATION;VALUE=URI;X-ADDRESS=Rosengartenplatz 2\, Mannhe
 im\, 68161\, Deutschland;X-APPLE-RADIUS=100;X-TITLE=Ella & Louis\, Mannhei
 m:geo:49.4854417,8.477376499999991
END:VEVENT
BEGIN:VTIMEZONE
TZID:Europe/Berlin
X-LIC-LOCATION:Europe/Berlin
BEGIN:STANDARD
DTSTART:20191027T020000
TZOFFSETFROM:+0200
TZOFFSETTO:+0100
TZNAME:CET
END:STANDARD
END:VTIMEZONE
END:VCALENDAR