BEGIN:VCALENDAR
VERSION:2.0
PRODID:-//wp-events-plugin.com//7.2.3.1//EN
TZID:Europe/Berlin
X-WR-TIMEZONE:Europe/Berlin
BEGIN:VEVENT
UID:92@swing-in-heilbronx.de
DTSTART;TZID=Europe/Berlin:20191018T190000
DTEND;TZID=Europe/Berlin:20191018T230000
DTSTAMP:20190721T191830Z
URL:http://www.swing-in-heilbronx.de/events/my-ladyswing-tanzveranstaltung
 /
SUMMARY:My LadySwing - Tanzveranstaltung
DESCRIPTION:Auf der Homepage www.ellalouis.de findet ihr folgendes:\n\nLIVE
 -MUSIK DER 20-40ER JAHRE - MIT TANZEINFÜHRUNG\, MITTANZEN ERLAUBT &amp\; 
 ERWÜNSCHT!\n\nSwingmusik der 20er bis 40er Jahre\, dargeboten von drei sw
 ingenden Ladies. My LadySwing ist eine außergewöhnliche Formation besteh
 end aus der Sängerin Katrin Armani\, der Pianistin Tanja Mathias-Heintz u
 nd der Kontrabassistin Geeke Sieben. Für die rhythmische Unterstützung s
 orgen die Steppeinlagen der Sängerin und die Fußrassel der Pianistin.\n\
 nFür Interessierte und Tanzbegeisterte gibt es davor eine Swingtanz-Einf
 ührung um 19.00 Uhr. Hier sind alle\, ob mit oder ohne Tanzpartner\, herz
 lich willkommen! Musik mit Herz und Seele – lässigem Groove und viel Hi
 ngabe!\n\nTanja Mathias-Heintz (Piano und Fußrassel)\n\nKatrin Armani (Vo
 cal\, Steppen)\n\nGeeke Sieben (Kontrabass)
LOCATION:Ella & Louis\, Mannheim\, Rosengartenplatz 2\, Mannheim\, 68161\, 
 Deutschland
GEO:49.4854417;8.477376499999991
X-APPLE-STRUCTURED-LOCATION;VALUE=URI;X-ADDRESS=Rosengartenplatz 2\, Mannhe
 im\, 68161\, Deutschland;X-APPLE-RADIUS=100;X-TITLE=Ella & Louis\, Mannhei
 m:geo:49.4854417,8.477376499999991
END:VEVENT
BEGIN:VTIMEZONE
TZID:Europe/Berlin
X-LIC-LOCATION:Europe/Berlin
BEGIN:DAYLIGHT
DTSTART:20190331T030000
TZOFFSETFROM:+0100
TZOFFSETTO:+0200
TZNAME:CEST
END:DAYLIGHT
END:VTIMEZONE
END:VCALENDAR