BEGIN:VCALENDAR
VERSION:2.0
PRODID:-//wp-events-plugin.com//7.2.3.1//EN
TZID:Europe/Berlin
X-WR-TIMEZONE:Europe/Berlin
BEGIN:VEVENT
UID:108@swing-in-heilbronx.de
DTSTART;TZID=Europe/Berlin:20191207T200000
DTEND;TZID=Europe/Berlin:20191207T235500
DTSTAMP:20190929T104908Z
URL:http://www.swing-in-heilbronx.de/events/nikolaus-swing-ball-mit-den-sw
 ingmonkeys/
SUMMARY:Nikolaus Swing Ball mit den Swingmonkeys im Alten Theater Heilbronn
DESCRIPTION:Tanze den ganzen Abend im Alten Theater Heilbronn (Lauffener St
 rasse 2) unter Sternenhimmel zu fantastischer Live Musik der Swingband "My
  LadySwing" oder schaue den anderen Tänzern zu und lass dich verzaubern!\
 n\nDie Swingmonkeys veranstalten diesen Ball. Bitte schaut Euch die Detail
 s auf ihrer Homepage (www.swingmonkeys.de) an. Karten könnt ihr dort kauf
 en.\nMy LadySwing\nSwingmusik der 20er bis 40er Jahre zum Zuhören oder Mi
 ttanzen- dargeboten von drei swingenden Ladies. My LadySwing ist eine au
 ßergewöhnliche Formation bestehend aus der Sängerin Katrin Armani\, der
  Pianistin Tanja Mathias-Heintz und der Kontrabassistin Geeke Sieben.\nFü
 r die rhythmische Unterstützung sorgen die Steppeinlagen der Sängerin un
 d die Fußrassel der Pianistin.
LOCATION:Altes Theater Heilbronn - Sontheim\, Lauffener Str. 2\, Heilbronn\
 , 74081\, Deutschland
GEO:49.11726119999999;9.188423100000023
X-APPLE-STRUCTURED-LOCATION;VALUE=URI;X-ADDRESS=Lauffener Str. 2\, Heilbron
 n\, 74081\, Deutschland;X-APPLE-RADIUS=100;X-TITLE=Altes Theater Heilbronn
  - Sontheim:geo:49.11726119999999,9.188423100000023
END:VEVENT
BEGIN:VTIMEZONE
TZID:Europe/Berlin
X-LIC-LOCATION:Europe/Berlin
BEGIN:STANDARD
DTSTART:20191027T020000
TZOFFSETFROM:+0200
TZOFFSETTO:+0100
TZNAME:CET
END:STANDARD
END:VTIMEZONE
END:VCALENDAR