BEGIN:VCALENDAR
VERSION:2.0
PRODID:-//wp-events-plugin.com//7.2.3.1//EN
TZID:Europe/Berlin
X-WR-TIMEZONE:Europe/Berlin
BEGIN:VEVENT
UID:346@swing-in-heilbronx.de
DTSTART;TZID=Europe/Berlin:20200418T203000
DTEND;TZID=Europe/Berlin:20200418T235900
DTSTAMP:20200216T155527Z
URL:http://www.swing-in-heilbronx.de/events/party-im-rahmen-des-monkey-swi
 ng-festival-mit-den-jazz-beanzz/
SUMMARY:Party im Rahmen des Monkey Swing Festival mit den Jazz Beanzz
DESCRIPTION:\n\n\nDie JazzBeanzz um Sabine Zimmermann (vocals) und Gus Zwin
 gert (drums) spielen mit neuer\, hochkarätiger Besetzung. Mit Frank Eberl
 e\, einem Meister seines Fachs am Piano\, Rick von Bracken\, Universalgeni
 e am Saxophon und Johannes Schaedlich\, Kontrabassist der Extraklasse krei
 eren sie eine Hommage an die unvergessliche Swing-Ära der 1920er bis 1950
 er Jahre - ein hot Swing Abend mit Garantie auf Glücksgefühle und durchs
 chwitzte Hemden.\n\n\n
LOCATION:Tanzschule Brenner\, Wilhelmstr. 23\, Heilbronn\, Deutschland
GEO:49.13575549999999;9.219558199999938
X-APPLE-STRUCTURED-LOCATION;VALUE=URI;X-ADDRESS=Wilhelmstr. 23\, Heilbronn\
 , Deutschland;X-APPLE-RADIUS=100;X-TITLE=Tanzschule Brenner:geo:49.1357554
 9999999,9.219558199999938
END:VEVENT
BEGIN:VTIMEZONE
TZID:Europe/Berlin
X-LIC-LOCATION:Europe/Berlin
BEGIN:DAYLIGHT
DTSTART:20200329T030000
TZOFFSETFROM:+0100
TZOFFSETTO:+0200
TZNAME:CEST
END:DAYLIGHT
END:VTIMEZONE
END:VCALENDAR