BEGIN:VCALENDAR
VERSION:2.0
PRODID:-//wp-events-plugin.com//7.2.3.1//EN
TZID:Europe/Berlin
X-WR-TIMEZONE:Europe/Berlin
BEGIN:VEVENT
UID:326@swing-in-heilbronx.de
DTSTART;TZID=Europe/Berlin:20191214T190000
DTEND;TZID=Europe/Berlin:20191214T230000
DTSTAMP:20191212T214005Z
URL:http://www.swing-in-heilbronx.de/events/savoy-night-xmas-party/
SUMMARY:Savoy Night - Xmas Party
DESCRIPTION:www.HappyFeetStuttgart.com\n\nHo ho hoo\, die lieben Swingtänz
 erInnen!\n\nPlätzchen werden gebacken\, Christmas-Swingmusik wird von den
  HappyFeet DJs ausgegraben\, Studio rausgeputzt und geschmückt!\nEuer Hom
 e mit schönen Lichtern wartet auf euch!\n\nWenn ihr Lust habt\, könnt ih
 r gerne etwas Leckeres mitbringen und wenn nicht\, dann freuen wir uns tro
 tzdem auf eine entspannte und lebhafte\, aber auf jeden Fall eine warmherz
 ige Lindy Hop Atmosphäre mit euch!\n\nAuch die Balboa- und ShagTänzerInn
 en werden den Abend genießen können\, das verspricht der Weihnachtsmann!
 \nAlles für eine himmlische XMas-Party!\nNatürlich wird es auch dieses J
 ahr Glühwein geben !!!\n\nWir freuen uns sehr auf weihnachtliche und/oder
  swingig-festliche Outfits!\n\nNatürlich gibt es auch eine Show für euch
  - vielleicht sogar zwei \;)\n\nUhrzeit: 19:00 - 23:00\nEintritt: 5€\n\n
 Swing up your Christmas Time\n\nMarcus &amp\; Güneş und das HappyFeet Te
 am\n\nwww.happyfeetstuttgart.com
LOCATION:Home of HappyFeet\, Falbenhennenstr. 2a\, Stuttgart\, 70180\, Deut
 schland
GEO:48.766248;9.176236
X-APPLE-STRUCTURED-LOCATION;VALUE=URI;X-ADDRESS=Falbenhennenstr. 2a\, Stutt
 gart\, 70180\, Deutschland;X-APPLE-RADIUS=100;X-TITLE=Home of HappyFeet:ge
 o:48.766248,9.176236
END:VEVENT
BEGIN:VTIMEZONE
TZID:Europe/Berlin
X-LIC-LOCATION:Europe/Berlin
BEGIN:STANDARD
DTSTART:20191027T020000
TZOFFSETFROM:+0200
TZOFFSETTO:+0100
TZNAME:CET
END:STANDARD
END:VTIMEZONE
END:VCALENDAR