BEGIN:VCALENDAR
VERSION:2.0
PRODID:-//wp-events-plugin.com//7.2.3.1//EN
TZID:Europe/Berlin
X-WR-TIMEZONE:Europe/Berlin
BEGIN:VEVENT
UID:16@swing-in-heilbronx.de
DTSTART;TZID=Europe/Berlin:20181231T190000
DTEND;TZID=Europe/Berlin:20190101T020000
DTSTAMP:20181222T161622Z
URL:http://www.swing-in-heilbronx.de/events/silvester-retro-party-swing-ja
 zz-lindyhop/
SUMMARY:ABGESAGT!!! Silvester Retro Party - Swing-Jazz-LindyHop
DESCRIPTION:Die Veranstaltung wurde leider abgesagt. \n\nBitte direkt in de
 r Piano Wine Bar nach Karten fragen. Hier die Internetadresse von Ioana:
  http://pianowinebar.com/events/
LOCATION:Piano Wine Bar\, Frankfurter Straße 36\, Heilbronn\, 74072\, Deut
 schland
GEO:49.1412328;9.209882900000025
X-APPLE-STRUCTURED-LOCATION;VALUE=URI;X-ADDRESS=Frankfurter Straße 36\, He
 ilbronn\, 74072\, Deutschland;X-APPLE-RADIUS=100;X-TITLE=Piano Wine Bar:ge
 o:49.1412328,9.209882900000025
END:VEVENT
BEGIN:VTIMEZONE
TZID:Europe/Berlin
X-LIC-LOCATION:Europe/Berlin
BEGIN:STANDARD
DTSTART:20181028T020000
TZOFFSETFROM:+0200
TZOFFSETTO:+0100
TZNAME:CET
END:STANDARD
END:VTIMEZONE
END:VCALENDAR