BEGIN:VCALENDAR
VERSION:2.0
PRODID:-//wp-events-plugin.com//7.2.3.1//EN
TZID:Europe/Berlin
X-WR-TIMEZONE:Europe/Berlin
BEGIN:VEVENT
UID:10@swing-in-heilbronx.de
DTSTART;TZID=Europe/Berlin:20181205T190000
DTEND;TZID=Europe/Berlin:20181205T214500
DTSTAMP:20181111T202502Z
URL:http://www.swing-in-heilbronx.de/events/social-dance-2/
SUMMARY:Social Dance
DESCRIPTION:Am 5. Dezember 2018 tanzen wir wieder von 19:00 bis 21:30 Uhr i
 n der Piano Wine Bar. Für alle Neugierige und Anfänger gibt es von 19:30
  Uhr bis 20:15 Uhr eine Schnupper 3/4 Stunde.\n\nIhr findet die Piano Wine
  Bar in der Frankfurter Str. 36 in Heilbronn.
LOCATION:Piano Wine Bar\, Frankfurter Straße 36\, Heilbronn\, 74072\, Deut
 schland
GEO:49.1412328;9.209882900000025
X-APPLE-STRUCTURED-LOCATION;VALUE=URI;X-ADDRESS=Frankfurter Straße 36\, He
 ilbronn\, 74072\, Deutschland;X-APPLE-RADIUS=100;X-TITLE=Piano Wine Bar:ge
 o:49.1412328,9.209882900000025
END:VEVENT
BEGIN:VTIMEZONE
TZID:Europe/Berlin
X-LIC-LOCATION:Europe/Berlin
BEGIN:STANDARD
DTSTART:20181028T020000
TZOFFSETFROM:+0200
TZOFFSETTO:+0100
TZNAME:CET
END:STANDARD
END:VTIMEZONE
END:VCALENDAR