BEGIN:VCALENDAR
VERSION:2.0
PRODID:-//wp-events-plugin.com//7.2.3.1//EN
TZID:Europe/Berlin
X-WR-TIMEZONE:Europe/Berlin
BEGIN:VEVENT
UID:100@swing-in-heilbronx.de
DTSTART;TZID=Europe/Berlin:20191013T140000
DTEND;TZID=Europe/Berlin:20191013T170000
DTSTAMP:20190929T094045Z
URL:http://www.swing-in-heilbronx.de/events/social-dance-am-im-vom-fass-be
 i-jazz-und-einkauf-in-heilbronn/
SUMMARY:Social Dance am/im Vom FASS bei 'JAZZ und Einkauf' in Heilbronn
DESCRIPTION:\n\n\nHeilbronn hat einen verkaufsoffenen Sonntag unter dem Mot
 to 'Jazz und Einkauf' und wir dürfen vor dem Geschäft Vom FASS (Michael 
 und Daniela) tanzen. Bei schlechtem Wetter wird Michael einen Platz zum Ta
 nzen im Laden finden.\nUnd in den Tanzpausen könnt Ihr die leckeren Getr
 änke\, aber auch die Öle und Essige probieren und kaufen. Falls Ihr ein 
 Geschenk benötigt\, hier findet Ihr immer etwas..\n\n
LOCATION:Vom FASS\, Karlstraße 2\, Heilbronn\, 74072\, Deutschland
GEO:49.14317;9.2214831
X-APPLE-STRUCTURED-LOCATION;VALUE=URI;X-ADDRESS=Karlstraße 2\, Heilbronn\,
  74072\, Deutschland;X-APPLE-RADIUS=100;X-TITLE=Vom FASS:geo:49.14317,9.22
 14831
END:VEVENT
BEGIN:VTIMEZONE
TZID:Europe/Berlin
X-LIC-LOCATION:Europe/Berlin
BEGIN:DAYLIGHT
DTSTART:20190331T030000
TZOFFSETFROM:+0100
TZOFFSETTO:+0200
TZNAME:CEST
END:DAYLIGHT
END:VTIMEZONE
END:VCALENDAR