BEGIN:VCALENDAR
VERSION:2.0
PRODID:-//wp-events-plugin.com//7.2.3.1//EN
TZID:Europe/Berlin
X-WR-TIMEZONE:Europe/Berlin
BEGIN:VEVENT
UID:132@swing-in-heilbronx.de
DTSTART;TZID=Europe/Berlin:20191208T193000
DTEND;TZID=Europe/Berlin:20191208T213000
DTSTAMP:20191124T100610Z
URL:http://www.swing-in-heilbronx.de/events/sunday-night-fever-social-danc
 e-3/
SUMMARY:Sunday Night Fever - Social Dance
DESCRIPTION:   \n\n\nJeden 2. Sonntagabend im Monat finde der Social Dance 
 zu DJ Musik statt.\nEintritt: 3 EUR\nweitere Infos unter: www.happyfeetstu
 ttgart.com\n\n\n
LOCATION:Home of HappyFeet\, Falbenhennenstr. 2a\, Stuttgart\, 70180\, Deut
 schland
GEO:48.766248;9.176236
X-APPLE-STRUCTURED-LOCATION;VALUE=URI;X-ADDRESS=Falbenhennenstr. 2a\, Stutt
 gart\, 70180\, Deutschland;X-APPLE-RADIUS=100;X-TITLE=Home of HappyFeet:ge
 o:48.766248,9.176236
END:VEVENT
BEGIN:VTIMEZONE
TZID:Europe/Berlin
X-LIC-LOCATION:Europe/Berlin
BEGIN:STANDARD
DTSTART:20191027T020000
TZOFFSETFROM:+0200
TZOFFSETTO:+0100
TZNAME:CET
END:STANDARD
END:VTIMEZONE
END:VCALENDAR