BEGIN:VCALENDAR
VERSION:2.0
PRODID:-//wp-events-plugin.com//7.2.3.1//EN
TZID:Europe/Berlin
X-WR-TIMEZONE:Europe/Berlin
BEGIN:VEVENT
UID:344@swing-in-heilbronx.de
DTSTART;TZID=Europe/Berlin:20200412T193000
DTEND;TZID=Europe/Berlin:20200412T213000
DTSTAMP:20200216T155127Z
URL:http://www.swing-in-heilbronx.de/events/sunday-night-fever-social-danc
 e-5/
SUMMARY:Sunday Night Fever - Social Dance
DESCRIPTION:Social Dance "Sunday Night Fever"\, ab 19:30 Uhr von *Home of H
 appyFeet*\, im DIY Tanzstudio\, das den Swingtänzern gewidmet ist - von L
 indy Hoppern für Lindy Hopper ins Leben gerufen!\n\nSehr gerne kannst du 
 dir vom DJ Songs wünschen! Wir haben bestimmt den richtigen Beat für dic
 h!\nEintritt: 3\,- €\n\nEine wunderbare Aktivität\, das Wochenende ausk
 lingen zu lassen - Man kann glücklicher einschlafen und mit herrlichen Ge
 danken am Montag zur Arbeit gehen :)\n\n5 Gehminuten von der UBahnHalteste
 lle Österreichischer Platz\, 2 Haltestellen vom Olgaeck mit dem Bus\, im 
 zentralen\, ruhigen\, sehr charmanten Heusteigviertel\, im Innenhof wirst 
 du den Bounce hören!
LOCATION:Home of HappyFeet\, Falbenhennenstr. 2a\, Stuttgart\, 70180\, Deut
 schland
GEO:48.766248;9.176236
X-APPLE-STRUCTURED-LOCATION;VALUE=URI;X-ADDRESS=Falbenhennenstr. 2a\, Stutt
 gart\, 70180\, Deutschland;X-APPLE-RADIUS=100;X-TITLE=Home of HappyFeet:ge
 o:48.766248,9.176236
END:VEVENT
BEGIN:VTIMEZONE
TZID:Europe/Berlin
X-LIC-LOCATION:Europe/Berlin
BEGIN:DAYLIGHT
DTSTART:20200329T030000
TZOFFSETFROM:+0100
TZOFFSETTO:+0200
TZNAME:CEST
END:DAYLIGHT
END:VTIMEZONE
END:VCALENDAR