BEGIN:VCALENDAR
VERSION:2.0
PRODID:-//wp-events-plugin.com//7.2.3.1//EN
TZID:Europe/Berlin
X-WR-TIMEZONE:Europe/Berlin
BEGIN:VEVENT
UID:87@swing-in-heilbronx.de
DTSTART;TZID=Europe/Berlin:20190921T210000
DTEND;TZID=Europe/Berlin:20190921T235900
DTSTAMP:20190718T143655Z
URL:http://www.swing-in-heilbronx.de/events/swing-fever-party-1-der-swingm
 onkeys/
SUMMARY:Swing Fever Party #1 der Swingmonkeys
DESCRIPTION:Die erste "Swing Fever" Party in Heilbronn!\nLindy Hop Abende u
 nd Nächte - tolle Swingmusik hören\, neue Menschen kennen lernen und aus
  den Tanzkursen Gelerntes ausprobieren.\n\nMit DJ Julia\, DJ DR KE4 und DJ
  Klaus.\n\n&nbsp\;
LOCATION:Tanzschule Brenner\, Wilhelmstr. 23\, Heilbronn\, Deutschland
GEO:49.13575549999999;9.219558199999938
X-APPLE-STRUCTURED-LOCATION;VALUE=URI;X-ADDRESS=Wilhelmstr. 23\, Heilbronn\
 , Deutschland;X-APPLE-RADIUS=100;X-TITLE=Tanzschule Brenner:geo:49.1357554
 9999999,9.219558199999938
END:VEVENT
BEGIN:VTIMEZONE
TZID:Europe/Berlin
X-LIC-LOCATION:Europe/Berlin
BEGIN:DAYLIGHT
DTSTART:20190331T030000
TZOFFSETFROM:+0100
TZOFFSETTO:+0200
TZNAME:CEST
END:DAYLIGHT
END:VTIMEZONE
END:VCALENDAR