BEGIN:VCALENDAR
VERSION:2.0
PRODID:-//wp-events-plugin.com//7.2.3.1//EN
TZID:Europe/Berlin
X-WR-TIMEZONE:Europe/Berlin
BEGIN:VEVENT
UID:85@swing-in-heilbronx.de
DTSTART;TZID=Europe/Berlin:20190727T190000
DTEND;TZID=Europe/Berlin:20190727T235500
DTSTAMP:20190718T140918Z
URL:http://www.swing-in-heilbronx.de/events/swing-im-palais-lets-make-it-m
 agic-2/
SUMMARY:Swing im Palais - Let's make it magic!
DESCRIPTION:SWING IM PALAIS * Let´s make it magic!\nmit DJ Charles 1929 &a
 mp\; der PaperMoon SwingCombo\nIm Foyer des Stadtpalais Stuttgart\nAb 19 b
 is 00:00 Uhr\nEintritt frei - eine Spende für die Orga &amp\; die Musiker
  ist erwünscht\n\nLadies &amp\; Gentlemen – IT'S TIME TO SWING!\n\nFlie
 ßende Kleider\, Strumpfhosen mit Nadelstreifen\, Blumen im Haar – Hosen
 träger\, Fliegen und Hüte! Werft euch in Schale oder putzt euch raus\, d
 enn „SWING IM PALAIS“ lädt euch zu einem exklusiven Abend ein: Ihr we
 rdet in die Ära von Ella Fitzgerald\, Louis Armstrong\, Benny Goodman und
  Duke Ellington\, in die 1920´er bis 1940´er Jahre entführt!
LOCATION:Stadtpalais Stuttgart\, Konrad-Adenauer-Str. 20\, Stuttgart\, 7017
 3\, Deutschland
GEO:48.7790071;9.185249399999975
X-APPLE-STRUCTURED-LOCATION;VALUE=URI;X-ADDRESS=Konrad-Adenauer-Str. 20\, S
 tuttgart\, 70173\, Deutschland;X-APPLE-RADIUS=100;X-TITLE=Stadtpalais Stut
 tgart:geo:48.7790071,9.185249399999975
END:VEVENT
BEGIN:VTIMEZONE
TZID:Europe/Berlin
X-LIC-LOCATION:Europe/Berlin
BEGIN:DAYLIGHT
DTSTART:20190331T030000
TZOFFSETFROM:+0100
TZOFFSETTO:+0200
TZNAME:CEST
END:DAYLIGHT
END:VTIMEZONE
END:VCALENDAR