BEGIN:VCALENDAR
VERSION:2.0
PRODID:-//wp-events-plugin.com//7.2.3.1//EN
TZID:Europe/Berlin
X-WR-TIMEZONE:Europe/Berlin
BEGIN:VEVENT
UID:84@swing-in-heilbronx.de
DTSTART;TZID=Europe/Berlin:20190828T193000
DTEND;TZID=Europe/Berlin:20190828T220000
DTSTAMP:20190707T160051Z
URL:http://www.swing-in-heilbronx.de/events/swingin-wednesday-mit-swingkul
 tur/
SUMMARY:Swingin' Wednesday mit Swingkultur
DESCRIPTION:Swingkultur Stuttgart bietet im Sommer Lindy Hop Tanzen im Frei
 en an. Das Eliszis Jahrmarktstheater ist ein wunderbarer Ort\, um in Bierg
 artenatmospäre  zu tanzen und auch\, tollen Tänzern zuzusehen.\n\nSwing
 kultur startet mit 1 Stunde Taster (Rockabilly Jive - bis 20:30 Uhr)\nWir 
 planen an diesem Mittwoch einen Ausflug nach Stuttgart. Wer mag mit dabei 
 sein?\n\nDas Eliszis Jahrmarktstheater befindet sich im Höhenpark des Stu
 ttgarter Killesbergparks\, am Fuße des Aussichtsturms.\n\n&nbsp\;
LOCATION:Eliszis Jahrmarktstheater\, Eliszis Jahrmarktstheater\, Stuttgart\
 , 70192\, Deutschland
GEO:48.8049037;9.171861700000022
X-APPLE-STRUCTURED-LOCATION;VALUE=URI;X-ADDRESS=Eliszis Jahrmarktstheater\,
  Stuttgart\, 70192\, Deutschland;X-APPLE-RADIUS=100;X-TITLE=Eliszis Jahrma
 rktstheater:geo:48.8049037,9.171861700000022
END:VEVENT
BEGIN:VTIMEZONE
TZID:Europe/Berlin
X-LIC-LOCATION:Europe/Berlin
BEGIN:DAYLIGHT
DTSTART:20190331T030000
TZOFFSETFROM:+0100
TZOFFSETTO:+0200
TZNAME:CEST
END:DAYLIGHT
END:VTIMEZONE
END:VCALENDAR