BEGIN:VCALENDAR
VERSION:2.0
PRODID:-//wp-events-plugin.com//7.2.3.1//EN
TZID:Europe/Berlin
X-WR-TIMEZONE:Europe/Berlin
BEGIN:VEVENT
UID:121@swing-in-heilbronx.de
DTSTART;TZID=Europe/Berlin:20191123T200000
DTEND;TZID=Europe/Berlin:20191123T235900
DTSTAMP:20191028T201911Z
URL:http://www.swing-in-heilbronx.de/events/swingparty-mit-the-bumpy-roof-
 band-kulturwerk-stuttgart/
SUMMARY:Swingparty mit "The Bumpy Roof Band" - Swingkultur Stuttgart
DESCRIPTION:   \n\n\nDie Party beginnt mit einem Balboa Taster für Beginne
 r.\nAb 21 Uhr startet die Swing Party.\nEintritt beträgt 15 EUR\nWeitere 
 Details unter www.swingkultur.de\n\n\n
LOCATION:Kulturwerk Stuttgart\, Ostendstr. 106\, Stuttgart\, 70188\, Deutsc
 hland
GEO:48.782179;9.207641
X-APPLE-STRUCTURED-LOCATION;VALUE=URI;X-ADDRESS=Ostendstr. 106\, Stuttgart\
 , 70188\, Deutschland;X-APPLE-RADIUS=100;X-TITLE=Kulturwerk Stuttgart:geo:
 48.782179,9.207641
END:VEVENT
BEGIN:VTIMEZONE
TZID:Europe/Berlin
X-LIC-LOCATION:Europe/Berlin
BEGIN:STANDARD
DTSTART:20191027T020000
TZOFFSETFROM:+0200
TZOFFSETTO:+0100
TZNAME:CET
END:STANDARD
END:VTIMEZONE
END:VCALENDAR