BEGIN:VCALENDAR
VERSION:2.0
PRODID:-//wp-events-plugin.com//7.2.3.1//EN
TZID:Europe/Berlin
X-WR-TIMEZONE:Europe/Berlin
BEGIN:VEVENT
UID:351@swing-in-heilbronx.de
DTSTART;TZID=Europe/Berlin:20201019T173000
DTEND;TZID=Europe/Berlin:20201019T184500
DTSTAMP:20200906T133752Z
URL:http://www.swing-in-heilbronx.de/events/vhs-kurs-anfaenger-und-fortges
 chrittene-anfaenger-34/
SUMMARY:VHS Kurs für Lindy Hopper mit Vorkenntnissen
DESCRIPTION:1. Termin des VHS-Herbst-Kurses 2020 für Lindy Hopper mit Vork
 enntnissen.\n\nBitte meldet Euch über die Volkshochschule Heilbronn an. E
 s gibt eine begrenzte Teilnehmerzahl aufgrund der aktuellen Hygienebedingu
 ngen.\n\n&nbsp\;\n\n&nbsp\;
LOCATION:vhs Heilbronn Deutschhof\, Raum E28\, vhs Heilbronn Deutschhof\, K
 irchbrunnenstr. 12\, Heilbronn\, 74072\, Deutschland
GEO:49.14109;9.217999999999961
X-APPLE-STRUCTURED-LOCATION;VALUE=URI;X-ADDRESS=vhs Heilbronn Deutschhof\, 
 Kirchbrunnenstr. 12\, Heilbronn\, 74072\, Deutschland;X-APPLE-RADIUS=100;X
 -TITLE=vhs Heilbronn Deutschhof\, Raum E28:geo:49.14109,9.217999999999961
END:VEVENT
BEGIN:VTIMEZONE
TZID:Europe/Berlin
X-LIC-LOCATION:Europe/Berlin
BEGIN:DAYLIGHT
DTSTART:20200329T030000
TZOFFSETFROM:+0100
TZOFFSETTO:+0200
TZNAME:CEST
END:DAYLIGHT
END:VTIMEZONE
END:VCALENDAR