BEGIN:VCALENDAR
VERSION:2.0
PRODID:-//wp-events-plugin.com//7.2.3.1//EN
TZID:Europe/Berlin
X-WR-TIMEZONE:Europe/Berlin
BEGIN:VEVENT
UID:137@swing-in-heilbronx.de
DTSTART;TZID=Europe/Berlin:20200316T173000
DTEND;TZID=Europe/Berlin:20200316T184500
DTSTAMP:20200315T073608Z
URL:http://www.swing-in-heilbronx.de/events/vhs-kurs-anfaenger-und-fortges
 chrittene-anfaenger-38/
SUMMARY:ABSAGE: VHS Kurs - Anfänger und fortgeschrittene Anfänger
DESCRIPTION:5. Termin des VHS-Winter/Frühjahr-Kurses 2020 für Anfänger u
 nd fortgeschrittene Anfänger.\n\nBitte beachtet: der Termin für Lindy Ho
 p fällt aus bzw. wird verschoben\, auch wenn die VHS erst am Dienstag\, 1
 7.3. schließt.\n\n&nbsp\;\n\n&nbsp\;
LOCATION:vhs Heilbronn Deutschhof\, Raum E28\, vhs Heilbronn Deutschhof\, K
 irchbrunnenstr. 12\, Heilbronn\, 74072\, Deutschland
GEO:49.14109;9.217999999999961
X-APPLE-STRUCTURED-LOCATION;VALUE=URI;X-ADDRESS=vhs Heilbronn Deutschhof\, 
 Kirchbrunnenstr. 12\, Heilbronn\, 74072\, Deutschland;X-APPLE-RADIUS=100;X
 -TITLE=vhs Heilbronn Deutschhof\, Raum E28:geo:49.14109,9.217999999999961
END:VEVENT
BEGIN:VTIMEZONE
TZID:Europe/Berlin
X-LIC-LOCATION:Europe/Berlin
BEGIN:STANDARD
DTSTART:20191027T020000
TZOFFSETFROM:+0200
TZOFFSETTO:+0100
TZNAME:CET
END:STANDARD
END:VTIMEZONE
END:VCALENDAR