BEGIN:VCALENDAR
VERSION:2.0
PRODID:-//wp-events-plugin.com//7.2.3.1//EN
TZID:Europe/Berlin
X-WR-TIMEZONE:Europe/Berlin
BEGIN:VEVENT
UID:47@swing-in-heilbronx.de
DTSTART;TZID=Europe/Berlin:20190417T183000
DTEND;TZID=Europe/Berlin:20190417T200000
DTSTAMP:20190331T192218Z
URL:https://www.swing-in-heilbronx.de/events/lindy-hop-training-im-voe-5/
SUMMARY:Lindy Hop Training im VÖ
DESCRIPTION:Eingeladen sind alle Lindy Hop Tänzer\, die die Grundschritte 
 (8-count\, 6-count und Charleston) und Basisfiguren (Circle\, Swing-out\, 
 Swing-in) beherrschen.\n\nIn 90 Minuten erarbeiten wir eine neue Figur bzw
 . wiederholen und üben bereits Gelerntes.\n\nHeute findet dasTraining mit
  Heike statt.\n\n&nbsp\;\n\n&nbsp\;
LOCATION:Tanzschule VÖ\, Neckargartacher Str 94\, Heilbronn\, 74080\, Deut
 schland
GEO:49.1476084;9.196947099999988
X-APPLE-STRUCTURED-LOCATION;VALUE=URI;X-ADDRESS=Neckargartacher Str 94\, He
 ilbronn\, 74080\, Deutschland;X-APPLE-RADIUS=100;X-TITLE=Tanzschule VÖ:ge
 o:49.1476084,9.196947099999988
END:VEVENT
BEGIN:VTIMEZONE
TZID:Europe/Berlin
X-LIC-LOCATION:Europe/Berlin
BEGIN:DAYLIGHT
DTSTART:20190331T030000
TZOFFSETFROM:+0100
TZOFFSETTO:+0200
TZNAME:CEST
END:DAYLIGHT
END:VTIMEZONE
END:VCALENDAR