BEGIN:VCALENDAR
VERSION:2.0
PRODID:-//wp-events-plugin.com//7.2.3.1//EN
TZID:Europe/Berlin
X-WR-TIMEZONE:Europe/Berlin
BEGIN:VEVENT
UID:12@swing-in-heilbronx.de
DTSTART;TZID=Europe/Berlin:20181128T183000
DTEND;TZID=Europe/Berlin:20181128T200000
DTSTAMP:20181118T184038Z
URL:https://www.swing-in-heilbronx.de/events/lindy-hop-training-swing-in-h
 eilbronx/
SUMMARY:Lindy Hop Training - Swing in Heilbronx
DESCRIPTION:Üben und tanzen mit Heike.\n\n&nbsp\;\n\n&nbsp\;
LOCATION:Tanzschule VÖ\, Neckargartacher Str 94\, Heilbronn\, 74080\, Deut
 schland
GEO:49.1476084;9.196947099999988
X-APPLE-STRUCTURED-LOCATION;VALUE=URI;X-ADDRESS=Neckargartacher Str 94\, He
 ilbronn\, 74080\, Deutschland;X-APPLE-RADIUS=100;X-TITLE=Tanzschule VÖ:ge
 o:49.1476084,9.196947099999988
END:VEVENT
BEGIN:VTIMEZONE
TZID:Europe/Berlin
X-LIC-LOCATION:Europe/Berlin
BEGIN:STANDARD
DTSTART:20181028T020000
TZOFFSETFROM:+0200
TZOFFSETTO:+0100
TZNAME:CET
END:STANDARD
END:VTIMEZONE
END:VCALENDAR