BEGIN:VCALENDAR
VERSION:2.0
PRODID:-//wp-events-plugin.com//7.2.3.1//EN
TZID:Europe/Berlin
X-WR-TIMEZONE:Europe/Berlin
BEGIN:VEVENT
UID:28@swing-in-heilbronx.de
DTSTART;TZID=Europe/Berlin:20190704T110000
DTEND;TZID=Europe/Berlin:20190704T114500
DTSTAMP:20190101T203736Z
URL:https://www.swing-in-heilbronx.de/events/lindy-hop-und-vhs-schnupperst
 unde-und-tanzen-mit-swing-in-heilbronx/
SUMMARY:Lindy Hop und VHS - Schnupperstunde und Tanzen mit Swing in Heilbro
 nx
DESCRIPTION:Wir bieten eine Schnupper 3/4 Stunde Lindy Hop auf der BUGA an.
 \n\nDer genaue Ort auf der BUGA ist noch nicht fixiert (Stand 1.1.2019). U
 nten ist die Fährlebühne angegeben\, allerdings ist das nur ein Platzhal
 ter! Sobald der Ort bekannt ist\, wird er aktualisiert.\n\nWir bieten alle
 n Besuchern der BUGA an\, einen Lindy Hop Grundschritt zu lernen und mit u
 ns zu tanzen.\n\nWer Lust und Zeit hat\, in seiner Mittagspause mit uns au
 f dem BUGA Gelände zu tanzen\, ist herzlich eingeladen.
LOCATION:BUGA Heilbronn - Grüner Punkt - InfoCube\, Campuspark\, Heilbronn
 \, Deutschland\, 74072\, Deutschland
GEO:49.1423079;9.214854500000001
X-APPLE-STRUCTURED-LOCATION;VALUE=URI;X-ADDRESS=Campuspark\, Heilbronn\, De
 utschland\, 74072\, Deutschland;X-APPLE-RADIUS=100;X-TITLE=BUGA Heilbronn 
 - Grüner Punkt - InfoCube:geo:49.1423079,9.214854500000001
END:VEVENT
BEGIN:VTIMEZONE
TZID:Europe/Berlin
X-LIC-LOCATION:Europe/Berlin
BEGIN:DAYLIGHT
DTSTART:20190331T030000
TZOFFSETFROM:+0100
TZOFFSETTO:+0200
TZNAME:CEST
END:DAYLIGHT
END:VTIMEZONE
END:VCALENDAR