BEGIN:VCALENDAR
VERSION:2.0
PRODID:-//wp-events-plugin.com//7.2.3.1//EN
TZID:Europe/Berlin
X-WR-TIMEZONE:Europe/Berlin
BEGIN:VEVENT
UID:131@swing-in-heilbronx.de
DTSTART;TZID=Europe/Berlin:20200125T210000
DTEND;TZID=Europe/Berlin:20200125T235900
DTSTAMP:20191124T105532Z
URL:https://www.swing-in-heilbronx.de/events/swing-fever-lindy-hop-party-m
 it-den-swingmonkeys-2/
SUMMARY:Swing Fever - Lindy Hop Party mit den Swingmonkeys
DESCRIPTION:Die zweite "Swing Fever" Party in Heilbronn der Swingmonkeys!\n
 Lindy Hop Abende und Nächte - tolle Swingmusik hören\, neue Menschen ken
 nen lernen und aus den Tanzkursen Gelerntes ausprobieren.\n\nBringe gerne 
 Freunde mit\, die noch nicht Lindy Hop tanzen. Von 21:00 - 21:20 gibt es e
 inen Lindy Hop Schnupperkurs für Anfänger und Neugierige.\n\nEintritt: 7
  Euro/ 5 Euro erm.\nKarten: direkt im Kurs oder an der Kasse am Abend\nwww
 .swingmonkeys.de
LOCATION:Tanzschule Brenner\, Wilhelmstr. 23\, Heilbronn\, Deutschland
GEO:49.13575549999999;9.219558199999938
X-APPLE-STRUCTURED-LOCATION;VALUE=URI;X-ADDRESS=Wilhelmstr. 23\, Heilbronn\
 , Deutschland;X-APPLE-RADIUS=100;X-TITLE=Tanzschule Brenner:geo:49.1357554
 9999999,9.219558199999938
END:VEVENT
BEGIN:VTIMEZONE
TZID:Europe/Berlin
X-LIC-LOCATION:Europe/Berlin
BEGIN:STANDARD
DTSTART:20191027T020000
TZOFFSETFROM:+0200
TZOFFSETTO:+0100
TZNAME:CET
END:STANDARD
END:VTIMEZONE
END:VCALENDAR